BEGIN:VCALENDAR
VERSION:2.0
PRODID:-//Mountain District Dog Club - ECPv5.2.1//NONSGML v1.0//EN
CALSCALE:GREGORIAN
METHOD:PUBLISH
X-WR-CALNAME:Mountain District Dog Club
X-ORIGINAL-URL:https://mddc.com.au
X-WR-CALDESC:Events for Mountain District Dog Club
BEGIN:VTIMEZONE
TZID:Australia/Melbourne
BEGIN:STANDARD
TZOFFSETFROM:+1100
TZOFFSETTO:+1000
TZNAME:AEST
DTSTART:20200404T160000
END:STANDARD
BEGIN:DAYLIGHT
TZOFFSETFROM:+1000
TZOFFSETTO:+1100
TZNAME:AEDT
DTSTART:20201003T160000
END:DAYLIGHT
END:VTIMEZONE
BEGIN:VEVENT
DTSTART;TZID=Australia/Melbourne:20200801T080000
DTEND;TZID=Australia/Melbourne:20200830T170000
DTSTAMP:20210225T035806
CREATED:20200801T124227Z
LAST-MODIFIED:20200801T124400Z
UID:383-1596268800-1598806800@mddc.com.au
SUMMARY:July Howler
DESCRIPTION:17782602.July_Howler_2020
URL:https://mddc.com.au/event/july-howler/
CATEGORIES:Howler
END:VEVENT
END:VCALENDAR